BEGIN:VCALENDAR
VERSION:2.0
PRODID:-//Plone.org//NONSGML plone.app.event//EN
X-WR-TIMEZONE:Europe/Berlin
BEGIN:VEVENT
SUMMARY:At war with eagles - geologists and cartographers on the Alp front
  during the first world war
DTSTART;TZID=GMT+0;VALUE=DATE-TIME:20160129T090000
DTEND;TZID=GMT+0;VALUE=DATE-TIME:20160129T133000
DTSTAMP;VALUE=DATE-TIME:20260423T105113Z
UID:a8d4a42a03bc4544a0e9d2f261fc07d8@www.isprambiente.gov.it
CREATED;VALUE=DATE-TIME:20160120T102004Z
LAST-MODIFIED;VALUE=DATE-TIME:20170116T135438Z
LOCATION:Roma
URL:https://www.isprambiente.gov.it/en/archive/news-and-other-events/ispra
 -news/2016/01/at-war-with-eagles-geologists-and-on-the-alp-front-during-th
 e-first-world-war
END:VEVENT
END:VCALENDAR
