BEGIN:VCALENDAR
VERSION:2.0
PRODID:-//Plone.org//NONSGML plone.app.event//EN
X-WR-TIMEZONE:Europe/Berlin
BEGIN:VEVENT
SUMMARY:Joint Research Unit Emso Italia
DTSTART;TZID=GMT+0;VALUE=DATE-TIME:20160120T100000
DTEND;TZID=GMT+0;VALUE=DATE-TIME:20160120T130000
DTSTAMP;VALUE=DATE-TIME:20260423T074946Z
UID:ba6fa110e73f4afbaa24cf4f4d88e72a@www.isprambiente.gov.it
CREATED;VALUE=DATE-TIME:20160120T163027Z
LAST-MODIFIED;VALUE=DATE-TIME:20170116T135438Z
LOCATION:Rome
URL:https://www.isprambiente.gov.it/en/archive/news-and-other-events/ispra
 -news/2016/01/joint-research-unit-emso-italia
END:VEVENT
END:VCALENDAR
