BEGIN:VCALENDAR
VERSION:2.0
PRODID:-//Plone.org//NONSGML plone.app.event//EN
X-WR-TIMEZONE:Europe/Berlin
BEGIN:VEVENT
SUMMARY:Presentation day for the Center for Seismic Microzonation
DTSTART;TZID=GMT+0;VALUE=DATE-TIME:20160128T093000
DTEND;TZID=GMT+0;VALUE=DATE-TIME:20160128T160000
DTSTAMP;VALUE=DATE-TIME:20260423T105007Z
UID:c0c6ba5f59a149e18c0afb04995c96aa@www.isprambiente.gov.it
CREATED;VALUE=DATE-TIME:20151218T104304Z
LAST-MODIFIED;VALUE=DATE-TIME:20170116T135438Z
LOCATION:Roma
URL:https://www.isprambiente.gov.it/en/archive/news-and-other-events/ispra
 -news/2016/01/presentation-day-for-the-center-for-seismic-microzonation
END:VEVENT
END:VCALENDAR
