BEGIN:VCALENDAR
VERSION:2.0
PRODID:-//Plone.org//NONSGML plone.app.event//EN
X-WR-TIMEZONE:Europe/Berlin
BEGIN:VEVENT
SUMMARY:Subtract CO2 to the atmosphere developing agriculture and forests
DTSTART;TZID=GMT+0;VALUE=DATE-TIME:20160126T100000
DTEND;TZID=GMT+0;VALUE=DATE-TIME:20160126T130000
DTSTAMP;VALUE=DATE-TIME:20260423T085007Z
UID:12880c0be5084ca8ad21d789a8af62f8@www.isprambiente.gov.it
CREATED;VALUE=DATE-TIME:20160111T140134Z
DESCRIPTION:Next 26 January at the Auditorium "Giuseppe Avolio" national  
 headquarters of the Italian Confederation of Farmers it will be held the  
 conference "Subtract CO2 to the atmosphere developing agriculture and  for
 ests".
LAST-MODIFIED;VALUE=DATE-TIME:20170116T135438Z
LOCATION:Rome
URL:https://www.isprambiente.gov.it/en/archive/news-and-other-events/ispra
 -news/2016/01/subtract-co2-to-the-atmosphere-developing-agriculture-and-fo
 rests
END:VEVENT
END:VCALENDAR
