BEGIN:VCALENDAR
VERSION:2.0
PRODID:-//Plone.org//NONSGML plone.app.event//EN
X-WR-TIMEZONE:Europe/Berlin
BEGIN:VEVENT
SUMMARY:The decommissioning of nuclear plants in Piemonte and radioactive 
 waste management
DTSTART;TZID=GMT+0;VALUE=DATE-TIME:20160128T093000
DTEND;TZID=GMT+0;VALUE=DATE-TIME:20160128T163000
DTSTAMP;VALUE=DATE-TIME:20260423T111310Z
UID:eb3d79b602c742f4a1b99f6d42814d45@www.isprambiente.gov.it
CREATED;VALUE=DATE-TIME:20160112T090012Z
LAST-MODIFIED;VALUE=DATE-TIME:20170116T135438Z
LOCATION:Torino
URL:https://www.isprambiente.gov.it/en/archive/news-and-other-events/ispra
 -news/2016/01/the-decommissioning-of-nuclear-plants-in-piemonte-and-radioa
 ctive-waste-management
END:VEVENT
END:VCALENDAR
