BEGIN:VCALENDAR
VERSION:2.0
PRODID:-//Plone.org//NONSGML plone.app.event//EN
X-WR-TIMEZONE:Europe/Berlin
BEGIN:VEVENT
SUMMARY:Alien species in Italy : emergency for health and environment
DTSTART;TZID=GMT+0;VALUE=DATE-TIME:20160223T093000
DTEND;TZID=GMT+0;VALUE=DATE-TIME:20160223T180000
DTSTAMP;VALUE=DATE-TIME:20260421T084856Z
UID:032e502128664b8ea1ebc92b8358350c@www.isprambiente.gov.it
CREATED;VALUE=DATE-TIME:20160209T085415Z
LAST-MODIFIED;VALUE=DATE-TIME:20170116T135416Z
LOCATION:Rome
URL:https://www.isprambiente.gov.it/en/archive/news-and-other-events/ispra
 -news/2016/02/alien-species-in-italy-emergency-for-health-and-environment
END:VEVENT
END:VCALENDAR
