BEGIN:VCALENDAR
VERSION:2.0
PRODID:-//Plone.org//NONSGML plone.app.event//EN
X-WR-TIMEZONE:Europe/Berlin
BEGIN:VEVENT
SUMMARY:Beach as environmental heritage and economic assets. Coastal prote
 ction and beach nourishment
DTSTART;TZID=GMT+0;VALUE=DATE-TIME:20160226T150000
DTEND;TZID=GMT+0;VALUE=DATE-TIME:20160226T180000
DTSTAMP;VALUE=DATE-TIME:20260420T122837Z
UID:64fcae32b5f64090917be10bfa310363@www.isprambiente.gov.it
CREATED;VALUE=DATE-TIME:20160225T111824Z
LAST-MODIFIED;VALUE=DATE-TIME:20170116T135416Z
LOCATION:San Vincenzo
URL:https://www.isprambiente.gov.it/en/archive/news-and-other-events/ispra
 -news/2016/02/beach-environment-and-economic-assets.-coastal-protection-an
 d-nourishment
END:VEVENT
END:VCALENDAR
