BEGIN:VCALENDAR
VERSION:2.0
PRODID:-//Plone.org//NONSGML plone.app.event//EN
X-WR-TIMEZONE:Europe/Berlin
BEGIN:VEVENT
SUMMARY:Conference in memory of the geologist Domenico Lovisato on the cen
 tenary of his death
DTSTART;TZID=GMT+0;VALUE=DATE-TIME:20160226T093000
DTEND;TZID=GMT+0;VALUE=DATE-TIME:20160226T170000
DTSTAMP;VALUE=DATE-TIME:20260423T091939Z
UID:11d815856c89498d827ddd2849e7ac11@www.isprambiente.gov.it
CREATED;VALUE=DATE-TIME:20160212T131322Z
LAST-MODIFIED;VALUE=DATE-TIME:20170116T135416Z
LOCATION:Iglesias
URL:https://www.isprambiente.gov.it/en/archive/news-and-other-events/ispra
 -news/2016/02/conference-in-memory-of-the-geologist-domenico-lovisato-on-t
 he-centenary-of-his-death
END:VEVENT
END:VCALENDAR
