BEGIN:VCALENDAR
VERSION:2.0
PRODID:-//Plone.org//NONSGML plone.app.event//EN
X-WR-TIMEZONE:Europe/Berlin
BEGIN:VEVENT
SUMMARY:Geomorphological map of the historical center of Rome
DTSTART;TZID=GMT+0;VALUE=DATE-TIME:20160225T100000
DTEND;TZID=GMT+0;VALUE=DATE-TIME:20160226T123000
DTSTAMP;VALUE=DATE-TIME:20260423T091857Z
UID:3146bf1112bf4cef890aed9f3a5278f4@www.isprambiente.gov.it
CREATED;VALUE=DATE-TIME:20160208T104451Z
DESCRIPTION:The presentation of the geomorphological map of the historic c
 enter of  Rome will be held the 25 February at the Department of Earth Sci
 ences of  "La Sapienza" University\, while the next morning will be dedica
 ted to a  visit in Rome's historic center.
LAST-MODIFIED;VALUE=DATE-TIME:20170116T135415Z
LOCATION:Rome
URL:https://www.isprambiente.gov.it/en/archive/news-and-other-events/ispra
 -news/2016/02/geomorphological-map-of-the-historical-center-of-rome
END:VEVENT
END:VCALENDAR
