BEGIN:VCALENDAR
VERSION:2.0
PRODID:-//Plone.org//NONSGML plone.app.event//EN
X-WR-TIMEZONE:Europe/Berlin
BEGIN:VEVENT
SUMMARY:Italian cities and climate challenge : dossier presentation
DTSTART;TZID=GMT+0;VALUE=DATE-TIME:20160209T113000
DTEND;TZID=GMT+0;VALUE=DATE-TIME:20160209T133000
DTSTAMP;VALUE=DATE-TIME:20260423T091650Z
UID:15705f1a2da04b0a8a76349bc61cd170@www.isprambiente.gov.it
CREATED;VALUE=DATE-TIME:20160204T104655Z
LAST-MODIFIED;VALUE=DATE-TIME:20170116T135415Z
LOCATION:Roma
URL:https://www.isprambiente.gov.it/en/archive/news-and-other-events/ispra
 -news/2016/02/italian-cities-and-climate-challenge-dossier-presentation
END:VEVENT
END:VCALENDAR
