BEGIN:VCALENDAR
VERSION:2.0
PRODID:-//Plone.org//NONSGML plone.app.event//EN
X-WR-TIMEZONE:Europe/Berlin
BEGIN:VEVENT
SUMMARY:Italy\, the climate challenge and the circular economy. After Pari
 s and towards the EU 2030 objectives
DTSTART;TZID=GMT+0;VALUE=DATE-TIME:20160216T090000
DTEND;TZID=GMT+0;VALUE=DATE-TIME:20160216T130000
DTSTAMP;VALUE=DATE-TIME:20260423T091856Z
UID:a50b92dbecd64e758bf3a1b355a52bee@www.isprambiente.gov.it
CREATED;VALUE=DATE-TIME:20160125T104837Z
LAST-MODIFIED;VALUE=DATE-TIME:20170116T135414Z
LOCATION:Rome\, Senato della Repubblica – Piazza Capranica\, 72 
URL:https://www.isprambiente.gov.it/en/archive/news-and-other-events/ispra
 -news/2016/02/italy-the-climate-challenge-and-the-circular-economy.-after-
 paris-and-towards-the-eu-2030-objectives
END:VEVENT
END:VCALENDAR
