BEGIN:VCALENDAR
VERSION:2.0
PRODID:-//Plone.org//NONSGML plone.app.event//EN
X-WR-TIMEZONE:Europe/Berlin
BEGIN:VEVENT
SUMMARY:OrvietoScienza 2016 - something new under the Sun
DTSTART;TZID=GMT+0;VALUE=DATE-TIME:20160226T090000
DTEND;TZID=GMT+0;VALUE=DATE-TIME:20160226T171500
DTSTAMP;VALUE=DATE-TIME:20260423T091743Z
UID:8b93bebd1b734f78aa1a75adedbbd3e2@www.isprambiente.gov.it
CREATED;VALUE=DATE-TIME:20160212T124818Z
DESCRIPTION:The climate is changing : causes\, effects\, possibile solutio
 ns
LAST-MODIFIED;VALUE=DATE-TIME:20170116T135416Z
LOCATION:Orvieto\, Biblioteca Comunale Luigi Fumi
URL:https://www.isprambiente.gov.it/en/archive/news-and-other-events/ispra
 -news/2016/02/orvietoscienza-2016-something-new-under-the-sun
END:VEVENT
END:VCALENDAR
