BEGIN:VCALENDAR
VERSION:2.0
PRODID:-//Plone.org//NONSGML plone.app.event//EN
X-WR-TIMEZONE:Europe/Berlin
BEGIN:VEVENT
SUMMARY:Reduce soil consumption : we can we must
DTSTART;TZID=GMT+0;VALUE=DATE-TIME:20160227T094500
DTEND;TZID=GMT+0;VALUE=DATE-TIME:20160227T163000
DTSTAMP;VALUE=DATE-TIME:20260423T091651Z
UID:0fdcf4dded4a4a4a9358138d0253ac3d@www.isprambiente.gov.it
CREATED;VALUE=DATE-TIME:20160209T084611Z
LAST-MODIFIED;VALUE=DATE-TIME:20170116T135416Z
LOCATION:Rivalta di Torino
URL:https://www.isprambiente.gov.it/en/archive/news-and-other-events/ispra
 -news/2016/02/reduce-soil-consumption-we-can-we-must
END:VEVENT
END:VCALENDAR
