BEGIN:VCALENDAR
VERSION:2.0
PRODID:-//Plone.org//NONSGML plone.app.event//EN
X-WR-TIMEZONE:Europe/Berlin
BEGIN:VEVENT
SUMMARY:Resilience - an Agenda for the Government for climate change adapt
 ation
DTSTART;TZID=GMT+0;VALUE=DATE-TIME:20160219T093000
DTEND;TZID=GMT+0;VALUE=DATE-TIME:20160220T120000
DTSTAMP;VALUE=DATE-TIME:20260423T091924Z
UID:616bf3c553334630a5088f574e522000@www.isprambiente.gov.it
CREATED;VALUE=DATE-TIME:20160205T094658Z
LAST-MODIFIED;VALUE=DATE-TIME:20170116T135415Z
LOCATION:Ferrara - Fiera di Ferrara
URL:https://www.isprambiente.gov.it/en/archive/news-and-other-events/ispra
 -news/2016/02/resilient-an-agenda-for-the-government-for-climate-change-ad
 aptation
END:VEVENT
END:VCALENDAR
