BEGIN:VCALENDAR
VERSION:2.0
PRODID:-//Plone.org//NONSGML plone.app.event//EN
X-WR-TIMEZONE:Europe/Berlin
BEGIN:VEVENT
SUMMARY:The domestication of plants and animals: the Neolithic peaceful re
 volution for   an easier life. Presentation of the book "Terra tra le mani
 "
DTSTART;TZID=GMT+0;VALUE=DATE-TIME:20160218T093000
DTEND;TZID=GMT+0;VALUE=DATE-TIME:20160218T130000
DTSTAMP;VALUE=DATE-TIME:20260423T091938Z
UID:73a7fc8dbcc34141b9dc33ce420dcdad@www.isprambiente.gov.it
CREATED;VALUE=DATE-TIME:20160128T084507Z
LAST-MODIFIED;VALUE=DATE-TIME:20170116T135415Z
LOCATION:Roma\, sede ISPRA\, via V. Brancati\, 48 
URL:https://www.isprambiente.gov.it/en/archive/news-and-other-events/ispra
 -news/2016/02/the-domestication-of-plants-and-animals-the-neolithic-peacef
 ul-revolution-for-an-easier-life.-presentation-of-the-book-terra-tra-le-ma
 ni
END:VEVENT
END:VCALENDAR
