BEGIN:VCALENDAR
VERSION:2.0
PRODID:-//Plone.org//NONSGML plone.app.event//EN
X-WR-TIMEZONE:Europe/Berlin
BEGIN:VEVENT
SUMMARY:Anthropic pollution of water and soil in Italy
DTSTART;TZID=GMT+0;VALUE=DATE-TIME:20160321T093000
DTEND;TZID=GMT+0;VALUE=DATE-TIME:20160321T180000
DTSTAMP;VALUE=DATE-TIME:20260423T073845Z
UID:06d394b3b17e41dd9f9c469464810924@www.isprambiente.gov.it
CREATED;VALUE=DATE-TIME:20160316T111547Z
LAST-MODIFIED;VALUE=DATE-TIME:20170116T140527Z
LOCATION:Roma
URL:https://www.isprambiente.gov.it/en/archive/news-and-other-events/ispra
 -news/2016/03/anthropic-pollution-of-water-and-soil-in-italy
END:VEVENT
END:VCALENDAR
