BEGIN:VCALENDAR
VERSION:2.0
PRODID:-//Plone.org//NONSGML plone.app.event//EN
X-WR-TIMEZONE:Europe/Berlin
BEGIN:VEVENT
SUMMARY:Framework agreement signed between ISPRA and CNR : meeting about t
 he sea
DTSTART;TZID=GMT+0;VALUE=DATE-TIME:20160323T093000
DTEND;TZID=GMT+0;VALUE=DATE-TIME:20160323T170000
DTSTAMP;VALUE=DATE-TIME:20260423T073731Z
UID:89932964265b48cf842b8251f79ade1b@www.isprambiente.gov.it
CREATED;VALUE=DATE-TIME:20160323T095053Z
LAST-MODIFIED;VALUE=DATE-TIME:20170116T140454Z
URL:https://www.isprambiente.gov.it/en/archive/news-and-other-events/ispra
 -news/2016/03/framework-agreement-signed-between-ispra-and-cnr-meeting-abo
 ut-the-sea
END:VEVENT
END:VCALENDAR
