BEGIN:VCALENDAR
VERSION:2.0
PRODID:-//Plone.org//NONSGML plone.app.event//EN
X-WR-TIMEZONE:Europe/Berlin
BEGIN:VEVENT
SUMMARY:Climate change and sustainable development of the coast
DTSTART;TZID=GMT+0;VALUE=DATE-TIME:20160426T150000
DTEND;TZID=GMT+0;VALUE=DATE-TIME:20160426T173000
DTSTAMP;VALUE=DATE-TIME:20260423T082418Z
UID:c5232f9b0a5941a2b2e60531d4b96527@www.isprambiente.gov.it
CREATED;VALUE=DATE-TIME:20160408T141247Z
LAST-MODIFIED;VALUE=DATE-TIME:20170116T152957Z
LOCATION:Gaeta
URL:https://www.isprambiente.gov.it/en/archive/news-and-other-events/ispra
 -news/2016/04/climate-change-and-sustainable-development-of-the-coast
END:VEVENT
END:VCALENDAR
