BEGIN:VCALENDAR
VERSION:2.0
PRODID:-//Plone.org//NONSGML plone.app.event//EN
X-WR-TIMEZONE:Europe/Berlin
BEGIN:VEVENT
SUMMARY:Planet at the Crossroads
DTSTART;TZID=GMT+0;VALUE=DATE-TIME:20160407T143000
DTEND;TZID=GMT+0;VALUE=DATE-TIME:20160407T190000
DTSTAMP;VALUE=DATE-TIME:20260423T082329Z
UID:6d03f34b809849b2a0dea8bc39dbb48f@www.isprambiente.gov.it
CREATED;VALUE=DATE-TIME:20160323T094442Z
LAST-MODIFIED;VALUE=DATE-TIME:20170116T152957Z
LOCATION:Roma
URL:https://www.isprambiente.gov.it/en/archive/news-and-other-events/ispra
 -news/2016/04/planet-at-the-crossroads
END:VEVENT
END:VCALENDAR
