BEGIN:VCALENDAR
VERSION:2.0
PRODID:-//Plone.org//NONSGML plone.app.event//EN
X-WR-TIMEZONE:Europe/Berlin
BEGIN:VEVENT
SUMMARY:Pollution of soils and other environmental matrix in urban areas: 
 problems\, prospective and mitigation
DTSTART;TZID=GMT+0;VALUE=DATE-TIME:20160511T090000
DTEND;TZID=GMT+0;VALUE=DATE-TIME:20160511T160000
DTSTAMP;VALUE=DATE-TIME:20260423T094624Z
UID:10ef70f042e84ef38b4d347aaddc155a@www.isprambiente.gov.it
CREATED;VALUE=DATE-TIME:20160418T115412Z
LAST-MODIFIED;VALUE=DATE-TIME:20170116T140954Z
LOCATION:Roma
URL:https://www.isprambiente.gov.it/en/archive/news-and-other-events/ispra
 -news/2016/04/pollution-of-soils-and-other-environmental-matrix-in-urban-a
 reas-problems-prospective-and-mitigation
END:VEVENT
END:VCALENDAR
