BEGIN:VCALENDAR
VERSION:2.0
PRODID:-//Plone.org//NONSGML plone.app.event//EN
X-WR-TIMEZONE:Europe/Berlin
BEGIN:VEVENT
SUMMARY:Presentation of the volume " "Biology\, ecology and culture of gre
 y mullet (Mugilidae)"
DTSTART;TZID=GMT+0;VALUE=DATE-TIME:20160422T093000
DTEND;TZID=GMT+0;VALUE=DATE-TIME:20160422T123000
DTSTAMP;VALUE=DATE-TIME:20260423T073946Z
UID:d1e3bb98970f449ca540c3efb0b723c0@www.isprambiente.gov.it
CREATED;VALUE=DATE-TIME:20160330T131622Z
LAST-MODIFIED;VALUE=DATE-TIME:20170116T152957Z
LOCATION:Roma\, ISPRA\, via V. Brancati 48
URL:https://www.isprambiente.gov.it/en/archive/news-and-other-events/ispra
 -news/2016/04/presentation-of-the-volume-biology-ecology-and-culture-of-gr
 ey-mullet-mugilidae
END:VEVENT
END:VCALENDAR
