BEGIN:VCALENDAR
VERSION:2.0
PRODID:-//Plone.org//NONSGML plone.app.event//EN
X-WR-TIMEZONE:Europe/Berlin
BEGIN:VEVENT
SUMMARY:Protection and development of the Mediterranean Sea
DTSTART;TZID=GMT+0;VALUE=DATE-TIME:20160408T090000
DTEND;TZID=GMT+0;VALUE=DATE-TIME:20160408T130000
DTSTAMP;VALUE=DATE-TIME:20260423T082519Z
UID:325bda5063144548bffc55707f885ebe@www.isprambiente.gov.it
CREATED;VALUE=DATE-TIME:20160407T112836Z
LAST-MODIFIED;VALUE=DATE-TIME:20170116T152957Z
LOCATION:Area marina protetta del Plemmirio
URL:https://www.isprambiente.gov.it/en/archive/news-and-other-events/ispra
 -news/2016/04/protection-and-development-of-the-mediterranean-sea
END:VEVENT
END:VCALENDAR
