BEGIN:VCALENDAR
VERSION:2.0
PRODID:-//Plone.org//NONSGML plone.app.event//EN
X-WR-TIMEZONE:Europe/Berlin
BEGIN:VEVENT
SUMMARY:Sustainable development\, environmental protection and human healt
 h
DTSTART;TZID=GMT+0;VALUE=DATE-TIME:20160407T140000
DTEND;TZID=GMT+0;VALUE=DATE-TIME:20160409T130000
DTSTAMP;VALUE=DATE-TIME:20260423T082418Z
UID:cff4610b0f8b4f19a99af70d6c4aa7aa@www.isprambiente.gov.it
CREATED;VALUE=DATE-TIME:20160408T152315Z
DESCRIPTION:XVI National Congress CIRIAF
LAST-MODIFIED;VALUE=DATE-TIME:20170116T152957Z
LOCATION:Assisi
URL:https://www.isprambiente.gov.it/en/archive/news-and-other-events/ispra
 -news/2016/04/sustainable-development-environmental-protection-and-human-h
 ealth
END:VEVENT
END:VCALENDAR
