BEGIN:VCALENDAR
VERSION:2.0
PRODID:-//Plone.org//NONSGML plone.app.event//EN
X-WR-TIMEZONE:Europe/Berlin
BEGIN:VEVENT
SUMMARY:The sky meets: the earth Planet\, the astronaut Parmitano and the 
 Italian geologists
DTSTART;TZID=GMT+0;VALUE=DATE-TIME:20160407T083000
DTEND;TZID=GMT+0;VALUE=DATE-TIME:20160407T163000
DTSTAMP;VALUE=DATE-TIME:20260423T095535Z
UID:9cbae9af658241a4b69496ead1e61d6c@www.isprambiente.gov.it
CREATED;VALUE=DATE-TIME:20160405T103113Z
DESCRIPTION:The Earth seen from space: can we save Gaia?
LAST-MODIFIED;VALUE=DATE-TIME:20170116T152957Z
LOCATION:Minori (SA)
URL:https://www.isprambiente.gov.it/en/archive/news-and-other-events/ispra
 -news/2016/04/the-sky-meets-the-earth-planet-the-astronaut-parmitano-and-t
 he-italian-geologists
END:VEVENT
END:VCALENDAR
