BEGIN:VCALENDAR
VERSION:2.0
PRODID:-//Plone.org//NONSGML plone.app.event//EN
X-WR-TIMEZONE:Europe/Berlin
BEGIN:VEVENT
SUMMARY:X National Congress of Teriology
DTSTART;TZID=GMT+0;VALUE=DATE-TIME:20160420T090000
DTEND;TZID=GMT+0;VALUE=DATE-TIME:20160423T170000
DTSTAMP;VALUE=DATE-TIME:20260423T094716Z
UID:cdc67626c2604dfc8ff2d411fc7299e1@www.isprambiente.gov.it
CREATED;VALUE=DATE-TIME:20160414T095222Z
LAST-MODIFIED;VALUE=DATE-TIME:20170116T152957Z
URL:https://www.isprambiente.gov.it/en/archive/news-and-other-events/ispra
 -news/2016/04/x-national-congress-of-teriology
END:VEVENT
END:VCALENDAR
