BEGIN:VCALENDAR
VERSION:2.0
PRODID:-//Plone.org//NONSGML plone.app.event//EN
X-WR-TIMEZONE:Europe/Berlin
BEGIN:VEVENT
SUMMARY: Enhancement of the coast
DTSTART;TZID=GMT+0;VALUE=DATE-TIME:20160519T143000
DTEND;TZID=GMT+0;VALUE=DATE-TIME:20160519T190000
DTSTAMP;VALUE=DATE-TIME:20260423T035730Z
UID:80775402dd1e4144a7a758679d3e7459@www.isprambiente.gov.it
CREATED;VALUE=DATE-TIME:20160516T103947Z
LAST-MODIFIED;VALUE=DATE-TIME:20170116T141751Z
LOCATION:Roma
URL:https://www.isprambiente.gov.it/en/archive/news-and-other-events/ispra
 -news/2016/05/enhancement-of-the-coast
END:VEVENT
END:VCALENDAR
