BEGIN:VCALENDAR
VERSION:2.0
PRODID:-//Plone.org//NONSGML plone.app.event//EN
X-WR-TIMEZONE:Europe/Berlin
BEGIN:VEVENT
SUMMARY:System for water stream hydromorphological assessment\, analysis\,
  and monitoring - IDRAIM
DTSTART;TZID=GMT+0;VALUE=DATE-TIME:20160606T090000
DTEND;TZID=GMT+0;VALUE=DATE-TIME:20160610T160000
DTSTAMP;VALUE=DATE-TIME:20260423T073828Z
UID:5bb03f1bd3384333814de368caf614f4@www.isprambiente.gov.it
CREATED;VALUE=DATE-TIME:20160304T123244Z
DESCRIPTION: IX National Training Course 
LAST-MODIFIED;VALUE=DATE-TIME:20170116T141750Z
LOCATION:Prato
URL:https://www.isprambiente.gov.it/en/archive/news-and-other-events/ispra
 -news/2016/05/system-for-water-stream-hydromorphological-assessment-analys
 is-and-monitoring-idraim
END:VEVENT
END:VCALENDAR
