BEGIN:VCALENDAR
VERSION:2.0
PRODID:-//Plone.org//NONSGML plone.app.event//EN
X-WR-TIMEZONE:Europe/Berlin
BEGIN:VEVENT
SUMMARY:The phytodepuration of waste water
DTSTART;TZID=GMT+0;VALUE=DATE-TIME:20160519T090000
DTEND;TZID=GMT+0;VALUE=DATE-TIME:20160519T180000
DTSTAMP;VALUE=DATE-TIME:20260423T073759Z
UID:ac87cc9155104e80835fc99169e95210@www.isprambiente.gov.it
CREATED;VALUE=DATE-TIME:20160503T105811Z
LAST-MODIFIED;VALUE=DATE-TIME:20170116T141750Z
LOCATION:Pescara
URL:https://www.isprambiente.gov.it/en/archive/news-and-other-events/ispra
 -news/2016/05/the-phytodepuration-of-waste-water
END:VEVENT
END:VCALENDAR
