BEGIN:VCALENDAR
VERSION:2.0
PRODID:-//Plone.org//NONSGML plone.app.event//EN
X-WR-TIMEZONE:Europe/Berlin
BEGIN:VEVENT
SUMMARY:The waters of the rivers of Veneto 2016
DTSTART;TZID=GMT+0;VALUE=DATE-TIME:20160518T090000
DTEND;TZID=GMT+0;VALUE=DATE-TIME:20160518T160000
DTSTAMP;VALUE=DATE-TIME:20260423T073855Z
UID:f7515a3506be4900924e2dedfa8bc319@www.isprambiente.gov.it
CREATED;VALUE=DATE-TIME:20160428T121035Z
DESCRIPTION:Updates and thoughts on management\, environmental status and 
 risk of floods
LAST-MODIFIED;VALUE=DATE-TIME:20170116T141750Z
LOCATION:Padua
URL:https://www.isprambiente.gov.it/en/archive/news-and-other-events/ispra
 -news/2016/05/the-waters-of-the-rivers-of-veneto-2016
END:VEVENT
END:VCALENDAR
