BEGIN:VCALENDAR
VERSION:2.0
PRODID:-//Plone.org//NONSGML plone.app.event//EN
X-WR-TIMEZONE:Europe/Berlin
BEGIN:VEVENT
SUMMARY:2016 Eionet Workshop NRCs Biodiversity\, Ecosystems\, Indicators a
 nd Assessments
DTSTART;TZID=GMT+0;VALUE=DATE-TIME:20160630T100000
DTEND;TZID=GMT+0;VALUE=DATE-TIME:20160701T140000
DTSTAMP;VALUE=DATE-TIME:20260423T054337Z
UID:42bcdad30ef5405ca0902b4c06b66b1a@www.isprambiente.gov.it
CREATED;VALUE=DATE-TIME:20160630T130002Z
LAST-MODIFIED;VALUE=DATE-TIME:20170117T133845Z
LOCATION:Copenhagen
URL:https://www.isprambiente.gov.it/en/archive/news-and-other-events/ispra
 -news/2016/06/2016-eionet-workshop-nrcs-biodiversity-ecosystems-indicators
 -and-assessments
END:VEVENT
END:VCALENDAR
