BEGIN:VCALENDAR
VERSION:2.0
PRODID:-//Plone.org//NONSGML plone.app.event//EN
X-WR-TIMEZONE:Europe/Berlin
BEGIN:VEVENT
SUMMARY: Climate change\, biodiversity and new ecological scenarios
DTSTART;TZID=GMT+0;VALUE=DATE-TIME:20160609T083000
DTEND;TZID=GMT+0;VALUE=DATE-TIME:20160609T173000
DTSTAMP;VALUE=DATE-TIME:20260423T054403Z
UID:6c7f0c68edd14b06b22e2c007d325c05@www.isprambiente.gov.it
CREATED;VALUE=DATE-TIME:20160523T102709Z
LAST-MODIFIED;VALUE=DATE-TIME:20170117T133845Z
URL:https://www.isprambiente.gov.it/en/archive/news-and-other-events/ispra
 -news/2016/06/climate-change-biodiversity-and-new-ecological-scenarios
END:VEVENT
END:VCALENDAR
