BEGIN:VCALENDAR
VERSION:2.0
PRODID:-//Plone.org//NONSGML plone.app.event//EN
X-WR-TIMEZONE:Europe/Berlin
BEGIN:VEVENT
SUMMARY:Environmental Training Course in "Geological and geomorphological 
 mapping in professional practice"
DTSTART;TZID=GMT+0;VALUE=DATE-TIME:20160622T000000
DTEND;TZID=GMT+0;VALUE=DATE-TIME:20161014T000000
DTSTAMP;VALUE=DATE-TIME:20260423T054336Z
UID:f90bc51c913d47c1b7d36fe00a0d8770@www.isprambiente.gov.it
CREATED;VALUE=DATE-TIME:20160516T134543Z
LAST-MODIFIED;VALUE=DATE-TIME:20170116T141751Z
URL:https://www.isprambiente.gov.it/en/archive/news-and-other-events/ispra
 -news/2016/06/environmental-training-course-in-geological-and-geomorpholog
 ical-mapping-in-professional-practice
END:VEVENT
END:VCALENDAR
