BEGIN:VCALENDAR
VERSION:2.0
PRODID:-//Plone.org//NONSGML plone.app.event//EN
X-WR-TIMEZONE:Europe/Berlin
BEGIN:VEVENT
SUMMARY:ISPRA presents the photographic book  “Deep colors of the Medite
 rranean” during the pre-campaign of the  the Marine Military Ship Palinu
 ro.
DTSTART;TZID=GMT+0;VALUE=DATE-TIME:20160701T173000
DTEND;TZID=GMT+0;VALUE=DATE-TIME:20160701T190000
DTSTAMP;VALUE=DATE-TIME:20260423T054829Z
UID:014330757dba4dd6a528cd3d0f13bc93@www.isprambiente.gov.it
CREATED;VALUE=DATE-TIME:20160627T145943Z
LAST-MODIFIED;VALUE=DATE-TIME:20170213T095250Z
LOCATION:Porto di Civitavecchia\, banchina 7
URL:https://www.isprambiente.gov.it/en/archive/news-and-other-events/ispra
 -news/2016/06/ispra-presents-the-photographic-book-201cdeep-colors-of-the-
 mediterranean201d-during-the-pre-campaign-of-the-the-marine-military-ship-
 palinuro
END:VEVENT
END:VCALENDAR
