BEGIN:VCALENDAR
VERSION:2.0
PRODID:-//Plone.org//NONSGML plone.app.event//EN
X-WR-TIMEZONE:Europe/Berlin
BEGIN:VEVENT
SUMMARY:Presentation of SOIL MONITOR
DTSTART;TZID=GMT+0;VALUE=DATE-TIME:20160628T150000
DTEND;TZID=GMT+0;VALUE=DATE-TIME:20160628T180000
DTSTAMP;VALUE=DATE-TIME:20260423T054458Z
UID:fea2b6c48f7945bcaabe08b2e7be3542@www.isprambiente.gov.it
CREATED;VALUE=DATE-TIME:20160620T132426Z
LAST-MODIFIED;VALUE=DATE-TIME:20170117T133847Z
LOCATION:Rome
URL:https://www.isprambiente.gov.it/en/archive/news-and-other-events/ispra
 -news/2016/06/presentation-of-soil-monitor
END:VEVENT
END:VCALENDAR
