BEGIN:VCALENDAR
VERSION:2.0
PRODID:-//Plone.org//NONSGML plone.app.event//EN
X-WR-TIMEZONE:Europe/Berlin
BEGIN:VEVENT
SUMMARY:The Parks of the XXI Siecle
DTSTART;TZID=GMT+0;VALUE=DATE-TIME:20160615T090000
DTEND;TZID=GMT+0;VALUE=DATE-TIME:20160615T163000
DTSTAMP;VALUE=DATE-TIME:20260423T054601Z
UID:80c1406888154735aa3dbb1fe02b751a@www.isprambiente.gov.it
CREATED;VALUE=DATE-TIME:20160614T113232Z
LAST-MODIFIED;VALUE=DATE-TIME:20170117T133846Z
LOCATION:Lonate Pozzolo (VA)
URL:https://www.isprambiente.gov.it/en/archive/news-and-other-events/ispra
 -news/2016/06/the-parks-of-the-xxi-siecle
END:VEVENT
END:VCALENDAR
