BEGIN:VCALENDAR
VERSION:2.0
PRODID:-//Plone.org//NONSGML plone.app.event//EN
X-WR-TIMEZONE:Europe/Berlin
BEGIN:VEVENT
SUMMARY:The urban green management between technology and law
DTSTART;TZID=GMT+0;VALUE=DATE-TIME:20160620T110000
DTEND;TZID=GMT+0;VALUE=DATE-TIME:20160620T130000
DTSTAMP;VALUE=DATE-TIME:20260423T071610Z
UID:452143e2cf9d4ecbbf9a2c355de3b601@www.isprambiente.gov.it
CREATED;VALUE=DATE-TIME:20160617T163805Z
LAST-MODIFIED;VALUE=DATE-TIME:20170117T133847Z
URL:https://www.isprambiente.gov.it/en/archive/news-and-other-events/ispra
 -news/2016/06/the-urban-green-management-between-technology-and-law
END:VEVENT
END:VCALENDAR
