BEGIN:VCALENDAR
VERSION:2.0
PRODID:-//Plone.org//NONSGML plone.app.event//EN
X-WR-TIMEZONE:Europe/Berlin
BEGIN:VEVENT
SUMMARY:Tools for Health Impact Assessment - t4HIA
DTSTART;TZID=GMT+0;VALUE=DATE-TIME:20160621T103000
DTEND;TZID=GMT+0;VALUE=DATE-TIME:20160621T133000
DTSTAMP;VALUE=DATE-TIME:20260423T071610Z
UID:598b3910b0cd4636984307a1f474b516@www.isprambiente.gov.it
CREATED;VALUE=DATE-TIME:20160614T105103Z
LAST-MODIFIED;VALUE=DATE-TIME:20170117T133846Z
LOCATION:Rome
URL:https://www.isprambiente.gov.it/en/archive/news-and-other-events/ispra
 -news/2016/06/tools-for-health-impact-assessment-t4hia
END:VEVENT
END:VCALENDAR
