BEGIN:VCALENDAR
VERSION:2.0
PRODID:-//Plone.org//NONSGML plone.app.event//EN
X-WR-TIMEZONE:Europe/Berlin
BEGIN:VEVENT
SUMMARY:Towards a Green and Blue Economy: the SMART development of the ter
 ritory in the frame of tourism\, environment\, mobility\, agriculture and 
 fisheries
DTSTART;TZID=GMT+0;VALUE=DATE-TIME:20160624T093000
DTEND;TZID=GMT+0;VALUE=DATE-TIME:20160624T160000
DTSTAMP;VALUE=DATE-TIME:20260423T021410Z
UID:5a23170d6c8e4ffc8498598c8c0e25da@www.isprambiente.gov.it
CREATED;VALUE=DATE-TIME:20160621T124144Z
LAST-MODIFIED;VALUE=DATE-TIME:20170117T133847Z
LOCATION:Chioggia\, Auditorium San Nicolò
URL:https://www.isprambiente.gov.it/en/archive/news-and-other-events/ispra
 -news/2016/06/towards-a-green-and-blue-economy-the-smart-development-of-th
 e-territory-in-the-frame-of-tourism-environment-mobility-agriculture-and-f
 isheries
END:VEVENT
END:VCALENDAR
