BEGIN:VCALENDAR
VERSION:2.0
PRODID:-//Plone.org//NONSGML plone.app.event//EN
X-WR-TIMEZONE:Europe/Berlin
BEGIN:VEVENT
SUMMARY:Contrast the pollution and protect the marine environment
DTSTART;TZID=GMT+0;VALUE=DATE-TIME:20160706T150000
DTEND;TZID=GMT+0;VALUE=DATE-TIME:20160706T190000
DTSTAMP;VALUE=DATE-TIME:20260423T074343Z
UID:abe82b1f7b4a49ad9fab31c84dbc17f3@www.isprambiente.gov.it
CREATED;VALUE=DATE-TIME:20160705T113955Z
LAST-MODIFIED;VALUE=DATE-TIME:20170213T153651Z
URL:https://www.isprambiente.gov.it/en/archive/news-and-other-events/ispra
 -news/2016/07/contrast-the-pollution-and-protect-the-marine-environment
END:VEVENT
END:VCALENDAR
