BEGIN:VCALENDAR
VERSION:2.0
PRODID:-//Plone.org//NONSGML plone.app.event//EN
X-WR-TIMEZONE:Europe/Berlin
BEGIN:VEVENT
SUMMARY:Hydric service and green economy : opportunity and challenge in th
 e Governance of  hydric service in Italy
DTSTART;TZID=GMT+0;VALUE=DATE-TIME:20160718T093000
DTEND;TZID=GMT+0;VALUE=DATE-TIME:20160718T130000
DTSTAMP;VALUE=DATE-TIME:20260423T075020Z
UID:da1fb06870cf4d418dc6481d6abd60f6@www.isprambiente.gov.it
CREATED;VALUE=DATE-TIME:20160704T110051Z
LAST-MODIFIED;VALUE=DATE-TIME:20170213T153544Z
LOCATION:Rome
URL:https://www.isprambiente.gov.it/en/archive/news-and-other-events/ispra
 -news/2016/07/green-economy
END:VEVENT
END:VCALENDAR
