BEGIN:VCALENDAR
VERSION:2.0
PRODID:-//Plone.org//NONSGML plone.app.event//EN
X-WR-TIMEZONE:Europe/Berlin
BEGIN:VEVENT
SUMMARY:The management of water resource in agriculture 
DTSTART;TZID=GMT+0;VALUE=DATE-TIME:20160721T100000
DTEND;TZID=GMT+0;VALUE=DATE-TIME:20160721T130000
DTSTAMP;VALUE=DATE-TIME:20260423T073845Z
UID:90eaef25f15348c0b3b9b7929ba2d9ca@www.isprambiente.gov.it
CREATED;VALUE=DATE-TIME:20160720T103349Z
LAST-MODIFIED;VALUE=DATE-TIME:20170213T153545Z
LOCATION:Bologna
URL:https://www.isprambiente.gov.it/en/archive/news-and-other-events/ispra
 -news/2016/07/the-management-of-water-resource-in-agriculture
END:VEVENT
END:VCALENDAR
