BEGIN:VCALENDAR
VERSION:2.0
PRODID:-//Plone.org//NONSGML plone.app.event//EN
X-WR-TIMEZONE:Europe/Berlin
BEGIN:VEVENT
SUMMARY:Biological agriculture : worldwide answer to global warming 
DTSTART;TZID=GMT+0;VALUE=DATE-TIME:20160912T100000
DTEND;TZID=GMT+0;VALUE=DATE-TIME:20160912T130000
DTSTAMP;VALUE=DATE-TIME:20260423T105115Z
UID:95347f6396254f6586c6ff5ce5ad187b@www.isprambiente.gov.it
CREATED;VALUE=DATE-TIME:20160912T111745Z
LAST-MODIFIED;VALUE=DATE-TIME:20170213T162046Z
LOCATION:Bologna
URL:https://www.isprambiente.gov.it/en/archive/news-and-other-events/ispra
 -news/2016/09/biological-agriculture-worldwide-answer-to-global-warming
END:VEVENT
END:VCALENDAR
