BEGIN:VCALENDAR
VERSION:2.0
PRODID:-//Plone.org//NONSGML plone.app.event//EN
X-WR-TIMEZONE:Europe/Berlin
BEGIN:VEVENT
SUMMARY:Coast 2016
DTSTART;TZID=GMT+0;VALUE=DATE-TIME:20160921T100000
DTEND;TZID=GMT+0;VALUE=DATE-TIME:20160923T180000
DTSTAMP;VALUE=DATE-TIME:20260423T091459Z
UID:efd05074d9c5418e9b028f2689e37a27@www.isprambiente.gov.it
CREATED;VALUE=DATE-TIME:20160712T110549Z
LAST-MODIFIED;VALUE=DATE-TIME:20170213T162045Z
LOCATION:Quartiere fieristico di Ferrara
URL:https://www.isprambiente.gov.it/en/archive/news-and-other-events/ispra
 -news/2016/09/coast-2016
END:VEVENT
END:VCALENDAR
