BEGIN:VCALENDAR
VERSION:2.0
PRODID:-//Plone.org//NONSGML plone.app.event//EN
X-WR-TIMEZONE:Europe/Berlin
BEGIN:VEVENT
SUMMARY:Coast Esonda Expo 2016
DTSTART;TZID=GMT+0;VALUE=DATE-TIME:20160921T143000
DTEND;TZID=GMT+0;VALUE=DATE-TIME:20160921T160000
DTSTAMP;VALUE=DATE-TIME:20260423T075020Z
UID:a27c9840966e4148b950e4f663d3afad@www.isprambiente.gov.it
CREATED;VALUE=DATE-TIME:20160909T111920Z
LAST-MODIFIED;VALUE=DATE-TIME:20170213T162046Z
LOCATION:Ferrara
URL:https://www.isprambiente.gov.it/en/archive/news-and-other-events/ispra
 -news/2016/09/coast-esonda-expo-2016
END:VEVENT
END:VCALENDAR
