BEGIN:VCALENDAR
VERSION:2.0
PRODID:-//Plone.org//NONSGML plone.app.event//EN
X-WR-TIMEZONE:Europe/Berlin
BEGIN:VEVENT
SUMMARY:CUIA days in Italy
DTSTART;TZID=GMT+0;VALUE=DATE-TIME:20161013T150000
DTEND;TZID=GMT+0;VALUE=DATE-TIME:20161014T150000
DTSTAMP;VALUE=DATE-TIME:20260423T091613Z
UID:e9aa078b891c43e4a1cf52a123da7ed7@www.isprambiente.gov.it
CREATED;VALUE=DATE-TIME:20161003T140816Z
LAST-MODIFIED;VALUE=DATE-TIME:20170213T162044Z
LOCATION:Camerino
URL:https://www.isprambiente.gov.it/en/archive/news-and-other-events/ispra
 -news/2016/09/cuia-days-in-italy
END:VEVENT
END:VCALENDAR
