BEGIN:VCALENDAR
VERSION:2.0
PRODID:-//Plone.org//NONSGML plone.app.event//EN
X-WR-TIMEZONE:Europe/Berlin
BEGIN:VEVENT
SUMMARY:Earth Festival
DTSTART;TZID=GMT+0;VALUE=DATE-TIME:20160916T093000
DTEND;TZID=GMT+0;VALUE=DATE-TIME:20160917T200000
DTSTAMP;VALUE=DATE-TIME:20260423T092339Z
UID:650c2d72f95d4df79be66f3d3803ec55@www.isprambiente.gov.it
CREATED;VALUE=DATE-TIME:20160906T095334Z
LAST-MODIFIED;VALUE=DATE-TIME:20170213T162045Z
LOCATION:San Lazzaro di Savena (BO)
URL:https://www.isprambiente.gov.it/en/archive/news-and-other-events/ispra
 -news/2016/09/earth-festival
END:VEVENT
END:VCALENDAR
