BEGIN:VCALENDAR
VERSION:2.0
PRODID:-//Plone.org//NONSGML plone.app.event//EN
X-WR-TIMEZONE:Europe/Berlin
BEGIN:VEVENT
SUMMARY:FAI a law for the soil
DTSTART;TZID=GMT+0;VALUE=DATE-TIME:20160920T103000
DTEND;TZID=GMT+0;VALUE=DATE-TIME:20160920T170000
DTSTAMP;VALUE=DATE-TIME:20260423T092340Z
UID:d906165e497446b0abcbd40958d13104@www.isprambiente.gov.it
CREATED;VALUE=DATE-TIME:20160906T094414Z
LAST-MODIFIED;VALUE=DATE-TIME:20170213T162045Z
LOCATION:Milano
URL:https://www.isprambiente.gov.it/en/archive/news-and-other-events/ispra
 -news/2016/09/fai-a-law-for-the-soil
END:VEVENT
END:VCALENDAR
