BEGIN:VCALENDAR
VERSION:2.0
PRODID:-//Plone.org//NONSGML plone.app.event//EN
X-WR-TIMEZONE:Europe/Berlin
BEGIN:VEVENT
SUMMARY:Final Conference of the BALMAS Project
DTSTART;TZID=GMT+0;VALUE=DATE-TIME:20160921T090000
DTEND;TZID=GMT+0;VALUE=DATE-TIME:20160922T170000
DTSTAMP;VALUE=DATE-TIME:20260423T074344Z
UID:14a7474609a34c49bd85833e53cdba9a@www.isprambiente.gov.it
CREATED;VALUE=DATE-TIME:20160902T114133Z
LAST-MODIFIED;VALUE=DATE-TIME:20200511T122358Z
LOCATION:Piran\, Slovenia
URL:https://www.isprambiente.gov.it/en/archive/news-and-other-events/ispra
 -news/2016/09/final-conference-of-the-balmas-project
END:VEVENT
END:VCALENDAR
