BEGIN:VCALENDAR
VERSION:2.0
PRODID:-//Plone.org//NONSGML plone.app.event//EN
X-WR-TIMEZONE:Europe/Berlin
BEGIN:VEVENT
SUMMARY:Geology and seismic risk: the contributions of geology to the stud
 y of central Italy earthquake
DTSTART;TZID=GMT+0;VALUE=DATE-TIME:20160914T150000
DTEND;TZID=GMT+0;VALUE=DATE-TIME:20160914T180000
DTSTAMP;VALUE=DATE-TIME:20260423T091938Z
UID:9087fcd07154454ea4e43c3343cd03b5@www.isprambiente.gov.it
CREATED;VALUE=DATE-TIME:20160913T132800Z
LAST-MODIFIED;VALUE=DATE-TIME:20170213T162046Z
URL:https://www.isprambiente.gov.it/en/archive/news-and-other-events/ispra
 -news/2016/09/geology-and-seismic-risk-the-contributions-to-the-study-of-t
 he-geology-of-central-italy-earthquake
END:VEVENT
END:VCALENDAR
