BEGIN:VCALENDAR
VERSION:2.0
PRODID:-//Plone.org//NONSGML plone.app.event//EN
X-WR-TIMEZONE:Europe/Berlin
BEGIN:VEVENT
SUMMARY:Mobility Manager day
DTSTART;TZID=GMT+0;VALUE=DATE-TIME:20160916T093000
DTEND;TZID=GMT+0;VALUE=DATE-TIME:20160916T170000
DTSTAMP;VALUE=DATE-TIME:20260423T091459Z
UID:869f805e13c643c299a0d95bd52e28e3@www.isprambiente.gov.it
CREATED;VALUE=DATE-TIME:20160907T095130Z
LAST-MODIFIED;VALUE=DATE-TIME:20170213T162043Z
LOCATION:Roma\, Università degli Studi Roma Tre
URL:https://www.isprambiente.gov.it/en/archive/news-and-other-events/ispra
 -news/2016/09/mobility-manager-day
END:VEVENT
END:VCALENDAR
